BEGIN:VCALENDAR
VERSION:2.0
CALSCALE:GREGORIAN
PRODID:-//Diputació de Barcelona//DibaCMS//EN
BEGIN:VEVENT
UID:6699
DTSTAMP:20260421T151300
DTSTART:20260212T000000
DTEND:20260222T000000
SUMMARY:Setmana del 16 al 22 de febrer 2026      
LOCATION:
METHOD:PUBLISH
X-WR-CALNAME:calella@calella.cat
X-WR-TIMEZONE:Europe/Madrid
DESCRIPTION:
URI:https://www.calella.cat/actualitat/agenda-politica-/setmana-del-16-al-22-de-febrer-2026-.html
CLASS:PUBLIC
END:VEVENT
END:VCALENDAR
