BEGIN:VCALENDAR
VERSION:2.0
CALSCALE:GREGORIAN
PRODID:-//Diputació de Barcelona//DibaCMS//EN
BEGIN:VEVENT
UID:6617
DTSTAMP:20260421T145609
DTSTART:20260124T200000
DTEND:20260124T220000
SUMMARY:Per Fi Sol! Escena Calella Sala Mozart
LOCATION:
METHOD:PUBLISH
X-WR-CALNAME:calella@calella.cat
X-WR-TIMEZONE:Europe/Madrid
DESCRIPTION:
URI:https://www.calella.cat/actualitat/agenda/per-fi-sol-escena-calella-sala-mozart.html
CLASS:PUBLIC
END:VEVENT
END:VCALENDAR
