BEGIN:VCALENDAR
VERSION:2.0
CALSCALE:GREGORIAN
PRODID:-//Diputació de Barcelona//DibaCMS//EN
BEGIN:VEVENT
UID:6429
DTSTAMP:20260426T021135
DTSTART:20250807T200000
DTEND:20250828T220000
SUMMARY:Let's Swing Calella!
LOCATION:
METHOD:PUBLISH
X-WR-CALNAME:calella@calella.cat
X-WR-TIMEZONE:Europe/Madrid
DESCRIPTION:
URI:https://www.calella.cat/actualitat/agenda/6429-lets-swing-calella.html
CLASS:PUBLIC
END:VEVENT
END:VCALENDAR
