BEGIN:VCALENDAR
VERSION:2.0
CALSCALE:GREGORIAN
PRODID:-//Diputació de Barcelona//DibaCMS//EN
BEGIN:VEVENT
UID:6427
DTSTAMP:20260426T021546
DTSTART:20250814T190000
DTEND:20250815T010000
SUMMARY:La Revetlla d'agost
LOCATION:
METHOD:PUBLISH
X-WR-CALNAME:calella@calella.cat
X-WR-TIMEZONE:Europe/Madrid
DESCRIPTION:La revetlla comptarà amb un sopar popular, organitzat per les associacions Sant Quirze i Joventut Artística, i una programació musical per a tots els gustos. Hi haurà música en directe amb el grup tribut a Txarango, Músics de Carrer, ball amb Sònia i Cristian, i la sessió final del DJ Juan Esteban, que posarà el punt i final a la festa amb ritmes per a tothom.

L’Agrupació Sardanista de Calella també hi col·laborarà decorant la pujada al Pati de l’Os amb els fanalets confeccionats pels infants durant la Revetlla de Sant Jaume, aportant un toc màgic i familiar a l’escenari natural del parc.

Pel que fa al menjar, s’hi serviran sopars freds i calents, begudes, cava i coca tradicional perquè tothom pugui gaudir de la vetllada en un ambient únic.

PROGRAMA:

19.30 h Música de ball amb el duet Cristian i Sònia.

20.30 h Sopar popular i servei de bar a càrrec de l'Ass. Sant Quirze i Joventut Artística.

22.00 h Concert tribut a Txarango a càrrec de Músics de Carrer.

23.30 h Sessió Dj Juan Esteban.

URI:https://www.calella.cat/actualitat/agenda/la-revetlla-dagost.html
CLASS:PUBLIC
END:VEVENT
END:VCALENDAR
