BEGIN:VCALENDAR
VERSION:2.0
CALSCALE:GREGORIAN
PRODID:-//Diputació de Barcelona//DibaCMS//EN
BEGIN:VEVENT
UID:6423
DTSTAMP:20260426T034736
DTSTART:20250731T213000
DTEND:20250821T235500
SUMMARY:Calella Beach Festival 
LOCATION:
METHOD:PUBLISH
X-WR-CALNAME:calella@calella.cat
X-WR-TIMEZONE:Europe/Madrid
DESCRIPTION:
URI:https://www.calella.cat/actualitat/agenda/calella-beach-festival-.html
CLASS:PUBLIC
END:VEVENT
END:VCALENDAR
