BEGIN:VCALENDAR
VERSION:2.0
CALSCALE:GREGORIAN
PRODID:-//Diputació de Barcelona//DibaCMS//EN
BEGIN:VEVENT
UID:6422
DTSTAMP:20260426T015809
DTSTART:20250809T203000
DTEND:20250809T223000
SUMMARY:Nit Blanca
LOCATION:
METHOD:PUBLISH
X-WR-CALNAME:calella@calella.cat
X-WR-TIMEZONE:Europe/Madrid
DESCRIPTION:
URI:https://www.calella.cat/actualitat/agenda/nit-blanca.html
CLASS:PUBLIC
END:VEVENT
END:VCALENDAR
