BEGIN:VCALENDAR
VERSION:2.0
CALSCALE:GREGORIAN
PRODID:-//Diputació de Barcelona//DibaCMS//EN
BEGIN:VEVENT
UID:6420
DTSTAMP:20260426T015518
DTSTART:20250801T000000
DTEND:20250803T000000
SUMMARY:Fira del disc
LOCATION:
METHOD:PUBLISH
X-WR-CALNAME:calella@calella.cat
X-WR-TIMEZONE:Europe/Madrid
DESCRIPTION:
URI:https://www.calella.cat/actualitat/agenda/fira-del-disc.html
CLASS:PUBLIC
END:VEVENT
END:VCALENDAR
