BEGIN:VCALENDAR
VERSION:2.0
CALSCALE:GREGORIAN
PRODID:-//Diputació de Barcelona//DibaCMS//EN
BEGIN:VEVENT
UID:6419
DTSTAMP:20260426T020940
DTSTART:20250806T000000
DTEND:20250827T000000
SUMMARY:Vespres de clàssica
LOCATION:
METHOD:PUBLISH
X-WR-CALNAME:calella@calella.cat
X-WR-TIMEZONE:Europe/Madrid
DESCRIPTION:
URI:https://www.calella.cat/actualitat/agenda/vespres-de-classica.html
CLASS:PUBLIC
END:VEVENT
END:VCALENDAR
