BEGIN:VCALENDAR
VERSION:2.0
CALSCALE:GREGORIAN
PRODID:-//Diputació de Barcelona//DibaCMS//EN
BEGIN:VEVENT
UID:6380
DTSTAMP:20260426T034629
DTSTART:20250627T200000
DTEND:20250629T220000
SUMMARY:Obra de teatre "Rinconete y Cortadillo"
LOCATION:
METHOD:PUBLISH
X-WR-CALNAME:calella@calella.cat
X-WR-TIMEZONE:Europe/Madrid
DESCRIPTION:
URI:https://www.calella.cat/actualitat/agenda/obra-de-teatre-rinconete-y-cortadillo.html
CLASS:PUBLIC
END:VEVENT
END:VCALENDAR
