BEGIN:VCALENDAR
VERSION:2.0
CALSCALE:GREGORIAN
PRODID:-//Diputació de Barcelona//DibaCMS//EN
BEGIN:VEVENT
UID:6379
DTSTAMP:20260426T021525
DTSTART:20250626T210000
DTEND:20250626T230000
SUMMARY:Cicle Gaudí "Los destellos"
LOCATION:
METHOD:PUBLISH
X-WR-CALNAME:calella@calella.cat
X-WR-TIMEZONE:Europe/Madrid
DESCRIPTION:
URI:https://www.calella.cat/actualitat/agenda/cicle-gaudi-los-destellos.html
CLASS:PUBLIC
END:VEVENT
END:VCALENDAR
