BEGIN:VCALENDAR
VERSION:2.0
CALSCALE:GREGORIAN
PRODID:-//Diputació de Barcelona//DibaCMS//EN
BEGIN:VEVENT
UID:6378
DTSTAMP:20260426T021236
DTSTART:20250625T180000
DTEND:20250625T190000
SUMMARY:Hora del conte "L'amor és de colors"
LOCATION:
METHOD:PUBLISH
X-WR-CALNAME:calella@calella.cat
X-WR-TIMEZONE:Europe/Madrid
DESCRIPTION:
URI:https://www.calella.cat/actualitat/agenda/hora-del-conte-lamor-es-de-colors.html
CLASS:PUBLIC
END:VEVENT
END:VCALENDAR
