BEGIN:VCALENDAR
VERSION:2.0
CALSCALE:GREGORIAN
PRODID:-//Diputació de Barcelona//DibaCMS//EN
BEGIN:VEVENT
UID:6377
DTSTAMP:20260426T035006
DTSTART:20250620T213000
DTEND:20250620T230000
SUMMARY:Concert d'estiu "Cor l'Aixa"
LOCATION:
METHOD:PUBLISH
X-WR-CALNAME:calella@calella.cat
X-WR-TIMEZONE:Europe/Madrid
DESCRIPTION:
URI:https://www.calella.cat/actualitat/agenda/concert-destiu-cor-laixa.html
CLASS:PUBLIC
END:VEVENT
END:VCALENDAR
