BEGIN:VCALENDAR
VERSION:2.0
CALSCALE:GREGORIAN
PRODID:-//Diputació de Barcelona//DibaCMS//EN
BEGIN:VEVENT
UID:6376
DTSTAMP:20260426T021805
DTSTART:20250616T190000
DTEND:20250616T210000
SUMMARY:Concert "L'amor a través de l'òpera"
LOCATION:
METHOD:PUBLISH
X-WR-CALNAME:calella@calella.cat
X-WR-TIMEZONE:Europe/Madrid
DESCRIPTION:
URI:https://www.calella.cat/actualitat/agenda/concert-lamor-a-traves-de-lopera.html
CLASS:PUBLIC
END:VEVENT
END:VCALENDAR
