BEGIN:VCALENDAR
VERSION:2.0
CALSCALE:GREGORIAN
PRODID:-//Diputació de Barcelona//DibaCMS//EN
BEGIN:VEVENT
UID:6375
DTSTAMP:20260426T021905
DTSTART:20250616T190000
DTEND:20250616T210000
SUMMARY:Concert Pop Rock català
LOCATION:
METHOD:PUBLISH
X-WR-CALNAME:calella@calella.cat
X-WR-TIMEZONE:Europe/Madrid
DESCRIPTION:
URI:https://www.calella.cat/actualitat/agenda/concert-pop-rock-catala.html
CLASS:PUBLIC
END:VEVENT
END:VCALENDAR
