BEGIN:VCALENDAR
VERSION:2.0
CALSCALE:GREGORIAN
PRODID:-//Diputació de Barcelona//DibaCMS//EN
BEGIN:VEVENT
UID:6363
DTSTAMP:20260421T134957
DTSTART:20250613T000000
DTEND:20250616T000000
SUMMARY:Festa major Sant Quirze i Santa Julita
LOCATION:
METHOD:PUBLISH
X-WR-CALNAME:calella@calella.cat
X-WR-TIMEZONE:Europe/Madrid
DESCRIPTION:
URI:https://www.calella.cat/actualitat/agenda/6363-festa-major-sant-quirze-i-santa-julita.html
CLASS:PUBLIC
END:VEVENT
END:VCALENDAR
