BEGIN:VCALENDAR
VERSION:2.0
CALSCALE:GREGORIAN
PRODID:-//Diputació de Barcelona//DibaCMS//EN
BEGIN:VEVENT
UID:6346
DTSTAMP:20260422T154614
DTSTART:20250524T000000
DTEND:20250601T000000
SUMMARY:Moments de Flors
LOCATION:
METHOD:PUBLISH
X-WR-CALNAME:calella@calella.cat
X-WR-TIMEZONE:Europe/Madrid
DESCRIPTION:Descarrega't el programa de Moments de Flors

URI:https://www.calella.cat/actualitat/agenda/6346-moments-de-flors.html
CLASS:PUBLIC
END:VEVENT
END:VCALENDAR
