BEGIN:VCALENDAR
VERSION:2.0
CALSCALE:GREGORIAN
PRODID:-//Diputació de Barcelona//DibaCMS//EN
BEGIN:VEVENT
UID:6317
DTSTAMP:20260421T145115
DTSTART:20250516T170000
DTEND:20250518T180000
SUMMARY:Fira Tast
LOCATION:
METHOD:PUBLISH
X-WR-CALNAME:calella@calella.cat
X-WR-TIMEZONE:Europe/Madrid
DESCRIPTION:Del 16 al 18 de maig torna el FIRATAST CALELLA al Parc Dalmau amb més oferta gastronòmica

URI:https://www.calella.cat/actualitat/agenda/fira-tast.html
CLASS:PUBLIC
END:VEVENT
END:VCALENDAR
