BEGIN:VCALENDAR
VERSION:2.0
CALSCALE:GREGORIAN
PRODID:-//Diputació de Barcelona//DibaCMS//EN
BEGIN:VEVENT
UID:6307
DTSTAMP:20260426T021851
DTSTART:20250427T180000
DTEND:20250427T200000
SUMMARY:Concert Coral Irlandesa Vocalessence
LOCATION:
METHOD:PUBLISH
X-WR-CALNAME:calella@calella.cat
X-WR-TIMEZONE:Europe/Madrid
DESCRIPTION:
URI:https://www.calella.cat/actualitat/agenda/concert-coral-irlandesa-vocalessence.html
CLASS:PUBLIC
END:VEVENT
END:VCALENDAR
