BEGIN:VCALENDAR
VERSION:2.0
CALSCALE:GREGORIAN
PRODID:-//Diputació de Barcelona//DibaCMS//EN
BEGIN:VEVENT
UID:6297
DTSTAMP:20260425T225953
DTSTART:20250418T191500
DTEND:20250418T210000
SUMMARY:Concert de Setmana Santa Coral Laetare
LOCATION:
METHOD:PUBLISH
X-WR-CALNAME:calella@calella.cat
X-WR-TIMEZONE:Europe/Madrid
DESCRIPTION:
URI:https://www.calella.cat/actualitat/agenda/concert-de-setmana-santa-coral-laetare.html
CLASS:PUBLIC
END:VEVENT
END:VCALENDAR
