BEGIN:VCALENDAR
VERSION:2.0
CALSCALE:GREGORIAN
PRODID:-//Diputació de Barcelona//DibaCMS//EN
BEGIN:VEVENT
UID:5999
DTSTAMP:20260425T234218
DTSTART:20240602T120000
DTEND:20240602T120000
SUMMARY:Visita comentada al Museu per descobrir els tresors de la història de Calella
LOCATION:
METHOD:PUBLISH
X-WR-CALNAME:calella@calella.cat
X-WR-TIMEZONE:Europe/Madrid
DESCRIPTION:
URI:https://www.calella.cat/actualitat/agenda/visita-comentada-al-museu-per-descobrir-els-tresors-de-la-historia-de-calella.html
CLASS:PUBLIC
END:VEVENT
END:VCALENDAR
