BEGIN:VCALENDAR
VERSION:2.0
CALSCALE:GREGORIAN
PRODID:-//Diputació de Barcelona//DibaCMS//EN
BEGIN:VEVENT
UID:5969
DTSTAMP:20260426T002546
DTSTART:20240505T120000
DTEND:20240505T120000
SUMMARY:Visita comentada al Centre d'interpretació del Far
LOCATION:
METHOD:PUBLISH
X-WR-CALNAME:calella@calella.cat
X-WR-TIMEZONE:Europe/Madrid
DESCRIPTION:
URI:https://www.calella.cat/actualitat/agenda/5969-visita-comentada-al-centre-dinterpretacio-del-far.html
CLASS:PUBLIC
END:VEVENT
END:VCALENDAR
