BEGIN:VCALENDAR
VERSION:2.0
CALSCALE:GREGORIAN
PRODID:-//Diputació de Barcelona//DibaCMS//EN
BEGIN:VEVENT
UID:5939
DTSTAMP:20260425T152332
DTSTART:20240324T000000
DTEND:20240331T000000
SUMMARY:Setmana Santa a Calella 2024
LOCATION:
METHOD:PUBLISH
X-WR-CALNAME:calella@calella.cat
X-WR-TIMEZONE:Europe/Madrid
DESCRIPTION:
URI:https://www.calella.cat/actualitat/agenda/setmana-santa-a-calella-2024.html
CLASS:PUBLIC
END:VEVENT
END:VCALENDAR
