BEGIN:VCALENDAR
VERSION:2.0
CALSCALE:GREGORIAN
PRODID:-//Diputació de Barcelona//DibaCMS//EN
BEGIN:VEVENT
UID:5922
DTSTAMP:20260423T132240
DTSTART:20220201T000000
DTEND:20220228T000000
SUMMARY:Agenda d'activitats de febrer de 2022
LOCATION:
METHOD:PUBLISH
X-WR-CALNAME:calella@calella.cat
X-WR-TIMEZONE:Europe/Madrid
DESCRIPTION:
URI:https://www.calella.cat/actualitat/agenda/agenda-dactivitats-de-febrer-de-2022.html
CLASS:PUBLIC
END:VEVENT
END:VCALENDAR
