BEGIN:VCALENDAR
VERSION:2.0
CALSCALE:GREGORIAN
PRODID:-//Diputació de Barcelona//DibaCMS//EN
BEGIN:VEVENT
UID:5921
DTSTAMP:20260423T180954
DTSTART:20220301T000000
DTEND:20220331T000000
SUMMARY:Agenda d'activitats de març de 2022
LOCATION:
METHOD:PUBLISH
X-WR-CALNAME:calella@calella.cat
X-WR-TIMEZONE:Europe/Madrid
DESCRIPTION:
URI:https://www.calella.cat/actualitat/agenda/agenda-dactivitats-de-marc-de-2022.html
CLASS:PUBLIC
END:VEVENT
END:VCALENDAR
