BEGIN:VCALENDAR
VERSION:2.0
CALSCALE:GREGORIAN
PRODID:-//Diputació de Barcelona//DibaCMS//EN
BEGIN:VEVENT
UID:5917
DTSTAMP:20260424T120256
DTSTART:20220701T000000
DTEND:20220731T000000
SUMMARY:Agenda d'activitats de juliol de 2022
LOCATION:
METHOD:PUBLISH
X-WR-CALNAME:calella@calella.cat
X-WR-TIMEZONE:Europe/Madrid
DESCRIPTION:
URI:https://www.calella.cat/actualitat/agenda/agenda-dactivitats-de-juliol-de-2022.html
CLASS:PUBLIC
END:VEVENT
END:VCALENDAR
