BEGIN:VCALENDAR
VERSION:2.0
CALSCALE:GREGORIAN
PRODID:-//Diputació de Barcelona//DibaCMS//EN
BEGIN:VEVENT
UID:5916
DTSTAMP:20260424T203537
DTSTART:20220801T000000
DTEND:20220831T000000
SUMMARY:Agenda d'activitats d'agost de 2022
LOCATION:
METHOD:PUBLISH
X-WR-CALNAME:calella@calella.cat
X-WR-TIMEZONE:Europe/Madrid
DESCRIPTION:
URI:https://www.calella.cat/actualitat/agenda/agenda-dactivitats-dagost-de-2022.html
CLASS:PUBLIC
END:VEVENT
END:VCALENDAR
