BEGIN:VCALENDAR
VERSION:2.0
CALSCALE:GREGORIAN
PRODID:-//Diputació de Barcelona//DibaCMS//EN
BEGIN:VEVENT
UID:5911
DTSTAMP:20260426T004750
DTSTART:20231101T000000
DTEND:20231130T000000
SUMMARY:Agenda d'activitats de novembre de 2023
LOCATION:
METHOD:PUBLISH
X-WR-CALNAME:calella@calella.cat
X-WR-TIMEZONE:Europe/Madrid
DESCRIPTION:
URI:https://www.calella.cat/actualitat/agenda/agenda-dactivitats-de-novembre-de-2023.html
CLASS:PUBLIC
END:VEVENT
END:VCALENDAR
