BEGIN:VCALENDAR
VERSION:2.0
CALSCALE:GREGORIAN
PRODID:-//Diputació de Barcelona//DibaCMS//EN
BEGIN:VEVENT
UID:5907
DTSTAMP:20260425T123018
DTSTART:20240101T000000
DTEND:20240131T000000
SUMMARY:Agenda d'activitats de gener de 2024
LOCATION:
METHOD:PUBLISH
X-WR-CALNAME:calella@calella.cat
X-WR-TIMEZONE:Europe/Madrid
DESCRIPTION:
URI:https://www.calella.cat/actualitat/agenda/5907-agenda-dactivitats-de-gener-de-2024.html
CLASS:PUBLIC
END:VEVENT
END:VCALENDAR
