BEGIN:VCALENDAR
VERSION:2.0
CALSCALE:GREGORIAN
PRODID:-//Diputació de Barcelona//DibaCMS//EN
BEGIN:VEVENT
UID:5906
DTSTAMP:20260421T104141
DTSTART:20240201T000000
DTEND:20240229T000000
SUMMARY:Agenda d'activitats de febrer de 2024
LOCATION:
METHOD:PUBLISH
X-WR-CALNAME:calella@calella.cat
X-WR-TIMEZONE:Europe/Madrid
DESCRIPTION:
URI:https://www.calella.cat/actualitat/agenda/agenda-dactivitats-de-febrer-de-2024.html
CLASS:PUBLIC
END:VEVENT
END:VCALENDAR
