BEGIN:VCALENDAR
VERSION:2.0
CALSCALE:GREGORIAN
PRODID:-//Diputació de Barcelona//DibaCMS//EN
BEGIN:VEVENT
UID:5902
DTSTAMP:20260425T014043
DTSTART:20230501T000000
DTEND:20230531T000000
SUMMARY:Agenda d'activitats de maig de 2023
LOCATION:
METHOD:PUBLISH
X-WR-CALNAME:calella@calella.cat
X-WR-TIMEZONE:Europe/Madrid
DESCRIPTION:
URI:https://www.calella.cat/actualitat/agenda/agenda-dactivitats-de-maig-de-2023.html
CLASS:PUBLIC
END:VEVENT
END:VCALENDAR
