BEGIN:VCALENDAR
VERSION:2.0
CALSCALE:GREGORIAN
PRODID:-//Diputació de Barcelona//DibaCMS//EN
BEGIN:VEVENT
UID:5720
DTSTAMP:20260425T212714
DTSTART:20231027T193000
DTEND:20231027T223000
SUMMARY:Assaig obert dels Maduixots, Castellers de l'Alt Maresme
LOCATION:Plaça de l'Ajuntament 08370 Calella
METHOD:PUBLISH
X-WR-CALNAME:calella@calella.cat
X-WR-TIMEZONE:Europe/Madrid
DESCRIPTION:Aquest divendres 27 d'octubre, els Castellers de l'Alt Maresme, els Maduixots, faran un assaig obert de castells a la plaça de l'Ajuntament de 19.30h a 22.30h per celebrar els seus 10 anys d'història. 

URI:https://www.calella.cat/actualitat/agenda/assaig-obert-dels-maduixots-castellers-de-lalt-maresme.html
CLASS:PUBLIC
END:VEVENT
END:VCALENDAR
