BEGIN:VCALENDAR
VERSION:2.0
CALSCALE:GREGORIAN
PRODID:-//Diputació de Barcelona//DibaCMS//EN
BEGIN:VEVENT
UID:5704
DTSTAMP:20260425T141704
DTSTART:20230920T100000
DTEND:20230920T170000
SUMMARY:Concert de l'Amistat
LOCATION:Plaça de l'Ajuntament 08370 Calella
METHOD:PUBLISH
X-WR-CALNAME:calella@calella.cat
X-WR-TIMEZONE:Europe/Madrid
DESCRIPTION:A les 11.00 h i a les 17:00 h, a la plaça de l’Ajuntament, Concert de l’Amistat, dins el “Xè Festival Coral Internacional Canta al Mar”, la copa del món de corals!

URI:https://www.calella.cat/actualitat/agenda/concert-de-lamistat.html
CLASS:PUBLIC
END:VEVENT
END:VCALENDAR
