BEGIN:VCALENDAR
VERSION:2.0
CALSCALE:GREGORIAN
PRODID:-//Diputació de Barcelona//DibaCMS//EN
BEGIN:VEVENT
UID:5703
DTSTAMP:20260426T005920
DTSTART:20231020T103000
DTEND:20231020T103000
SUMMARY:Competició de Corals, categoria Cors infantils i juvenils 
LOCATION:c. Església, 91 08370 Calella
METHOD:PUBLISH
X-WR-CALNAME:calella@calella.cat
X-WR-TIMEZONE:Europe/Madrid
DESCRIPTION:A la Sala Mozart, Competició de Corals, categoria Cors infantils i juvenils amb motiu del “Xè Festival Coral Internacional Canta al Mar”.

Entrada lliure

 

URI:https://www.calella.cat/actualitat/agenda/competicio-de-corals-categoria-cors-infantils-i-juvenils-.html
CLASS:PUBLIC
END:VEVENT
END:VCALENDAR
