BEGIN:VCALENDAR
VERSION:2.0
CALSCALE:GREGORIAN
PRODID:-//Diputació de Barcelona//DibaCMS//EN
BEGIN:VEVENT
UID:5701
DTSTAMP:20260426T022056
DTSTART:20231019T163000
DTEND:20231019T210000
SUMMARY:Gran Inauguració "Xè Festival Coral Internacional Canta al Mar"
LOCATION:Pati de l'Ós 
METHOD:PUBLISH
X-WR-CALNAME:calella@calella.cat
X-WR-TIMEZONE:Europe/Madrid
DESCRIPTION:A les 16:30 al Pati de l'Ós, Gran Inauguració "Xè Festival Coral Internacional Canta al Mar"! I a les 21:00 h, a l'Església parroquial de Santa Maria i Sant Nicolau, concert d'Inauguració.

Entrada lliure

URI:https://www.calella.cat/actualitat/agenda/gran-inauguracio-xe-festival-coral-internacional-canta-al-mar.html
CLASS:PUBLIC
END:VEVENT
END:VCALENDAR
