BEGIN:VCALENDAR
VERSION:2.0
CALSCALE:GREGORIAN
PRODID:-//Diputació de Barcelona//DibaCMS//EN
BEGIN:VEVENT
UID:5700
DTSTAMP:20260425T212629
DTSTART:20231019T160000
DTEND:20231019T160000
SUMMARY:Cercavila corals "Xè Festival Coral Internacional Canta al Mar"
LOCATION:
METHOD:PUBLISH
X-WR-CALNAME:calella@calella.cat
X-WR-TIMEZONE:Europe/Madrid
DESCRIPTION:Des de la Riera Capaspre s'inicia la cercavila dels grups participants al Xè Festival Coral Internacional Canta al Mar! L'itinerari segueix pel carrer Jovara, Sant Isidre, Riera, Pl. Ajuntament, Bisbe Sivilla, Pl. Església, carrer Església, Sant Joan fins Sant Jaume i el Parc Dalmau.

URI:https://www.calella.cat/actualitat/agenda/cercavila-corals-xe-festival-coral-internacional-canta-al-mar.html
CLASS:PUBLIC
END:VEVENT
END:VCALENDAR
