BEGIN:VCALENDAR
VERSION:2.0
CALSCALE:GREGORIAN
PRODID:-//Diputació de Barcelona//DibaCMS//EN
BEGIN:VEVENT
UID:5696
DTSTAMP:20260425T200158
DTSTART:20231018T183000
DTEND:20231018T183000
SUMMARY:Conferència "Històries explicades pels meteorits"
LOCATION:c. Sant Jaume, 225-229 08370 Calella
METHOD:PUBLISH
X-WR-CALNAME:calella@calella.cat
X-WR-TIMEZONE:Europe/Madrid
DESCRIPTION:A l’Auditori de Can Saleta se celebrarà la conferència Històries explicades pels meteorits, a càrrec de Jordi Llorca, catedràtic d’Enginyeria Química de la Universitat Politècnica de Catalunya.

Més informació a www.aulacalella.cat  o 937692467.

URI:https://www.calella.cat/actualitat/agenda/conferencia-histories-explicades-pels-meteorits.html
CLASS:PUBLIC
END:VEVENT
END:VCALENDAR
