BEGIN:VCALENDAR
VERSION:2.0
CALSCALE:GREGORIAN
PRODID:-//Diputació de Barcelona//DibaCMS//EN
BEGIN:VEVENT
UID:5687
DTSTAMP:20260425T152222
DTSTART:20231015T100000
DTEND:20231015T140000
SUMMARY:Trobada d'intercanvi i col·leccionisme
LOCATION:c. Anselm Clavé, s/n 08370 Calella
METHOD:PUBLISH
X-WR-CALNAME:calella@calella.cat
X-WR-TIMEZONE:Europe/Madrid
DESCRIPTION:Al Passeig Manuel Puigvert, trobada d’intercanvi i col·leccionisme organitzada per l'Associació Roca Grossa.

URI:https://www.calella.cat/actualitat/agenda/5687-trobada-dintercanvi-i-colleccionisme.html
CLASS:PUBLIC
END:VEVENT
END:VCALENDAR
