BEGIN:VCALENDAR
VERSION:2.0
CALSCALE:GREGORIAN
PRODID:-//Diputació de Barcelona//DibaCMS//EN
BEGIN:VEVENT
UID:5683
DTSTAMP:20260425T142012
DTSTART:20231013T200000
DTEND:20231013T200000
SUMMARY:“Refresc de patrimoni: Ruta per descobrir els antics oficis  i professions de Calella" al Museu Arxiu
LOCATION:c. Escoles Pies, 36 08370 Calella
METHOD:PUBLISH
X-WR-CALNAME:calella@calella.cat
X-WR-TIMEZONE:Europe/Madrid
DESCRIPTION:Al Museu Municipal, visita “Refresc de patrimoni: Ruta per descobrir els antics oficis  i professions de Calella”. És una activitat gratuïta i no cal reserva prèvia. 

URI:https://www.calella.cat/actualitat/agenda/refresc-de-patrimoni-ruta-per-descobrir-els-antics-oficis-i-professions-de-calella-al-museu-arxiu.html
CLASS:PUBLIC
END:VEVENT
END:VCALENDAR
