BEGIN:VCALENDAR
VERSION:2.0
CALSCALE:GREGORIAN
PRODID:-//Diputació de Barcelona//DibaCMS//EN
BEGIN:VEVENT
UID:5673
DTSTAMP:20260425T212814
DTSTART:20231019T070000
DTEND:20231019T070000
SUMMARY:Rutes pels voltants de Calella
LOCATION:Passeig Marítim (davant estació RENFE) 08370 Calella
METHOD:PUBLISH
X-WR-CALNAME:calella@calella.cat
X-WR-TIMEZONE:Europe/Madrid
DESCRIPTION:Participa a les rutes pels voltants de Calella organitzades per l'Associació Calella-Marxa!

Per a més informació, al telèfon 655 81 20 07.

URI:https://www.calella.cat/actualitat/agenda/5673-rutes-pels-voltants-de-calella.html
CLASS:PUBLIC
END:VEVENT
END:VCALENDAR
