BEGIN:VCALENDAR
VERSION:2.0
CALSCALE:GREGORIAN
PRODID:-//Diputació de Barcelona//DibaCMS//EN
BEGIN:VEVENT
UID:5660
DTSTAMP:20260425T165039
DTSTART:20231005T100000
DTEND:20231005T110000
SUMMARY:Tertulies en Català
LOCATION:Plaça de l'Ajuntament, 31 08370 Calella
METHOD:PUBLISH
X-WR-CALNAME:calella@calella.cat
X-WR-TIMEZONE:Europe/Madrid
DESCRIPTION:A la Biblioteca Can Salvador de la Plaça hi trobareu Tertulies en Català,  on es parlarà de Les Noies de pagès d’Edna O'Brien, a càrrec de Montserrat Ten. 

URI:https://www.calella.cat/actualitat/agenda/5660-tertulies-en-catala.html
CLASS:PUBLIC
END:VEVENT
END:VCALENDAR
