BEGIN:VCALENDAR
VERSION:2.0
CALSCALE:GREGORIAN
PRODID:-//Diputació de Barcelona//DibaCMS//EN
BEGIN:VEVENT
UID:5658
DTSTAMP:20260425T165106
DTSTART:20231004T183000
DTEND:20231004T183000
SUMMARY:Conferència "Joan Oró, el científic de la vida"
LOCATION:c. Església, 91 08370 Calella
METHOD:PUBLISH
X-WR-CALNAME:calella@calella.cat
X-WR-TIMEZONE:Europe/Madrid
DESCRIPTION:Assisteix a la conferència Joan Oró, el científic de la vida, a càrrec de Joan Anton Català, llicenciat en Ciències Químiques i màster en Astronomia i Astrofísica!

Més informació a www.aulacalella.cat  o 937692467.

URI:https://www.calella.cat/actualitat/agenda/5658-conferencia-joan-oro-el-cientific-de-la-vida.html
CLASS:PUBLIC
END:VEVENT
END:VCALENDAR
