BEGIN:VCALENDAR
VERSION:2.0
CALSCALE:GREGORIAN
PRODID:-//Diputació de Barcelona//DibaCMS//EN
BEGIN:VEVENT
UID:5657
DTSTAMP:20260425T165332
DTSTART:20230904T183000
DTEND:20230904T183000
SUMMARY:Conferència  "Joan Oró, el científic de la vida"
LOCATION:c. Església, 91 08370 Calella
METHOD:PUBLISH
X-WR-CALNAME:calella@calella.cat
X-WR-TIMEZONE:Europe/Madrid
DESCRIPTION:A la Sala Mozart, es celebra la conferència Joan Oró, el científic de la vida, a càrrec de Joan Anton Català, llicenciat en Ciències Químiques i màster en Astronomia i Astrofísica, no hi pots faltar!

Més informació a www.aulacalella.cat  o al 937692467.

URI:https://www.calella.cat/actualitat/agenda/conferencia-joan-oro-el-cientific-de-la-vida.html
CLASS:PUBLIC
END:VEVENT
END:VCALENDAR
