BEGIN:VCALENDAR
VERSION:2.0
CALSCALE:GREGORIAN
PRODID:-//Diputació de Barcelona//DibaCMS//EN
BEGIN:VEVENT
UID:5656
DTSTAMP:20260425T134232
DTSTART:20231003T103000
DTEND:20231031T120000
SUMMARY:Trobada Escola de Salut del Maresme i la Selva 
LOCATION:Plaça de l'Ajuntament, 31 08370 Calella
METHOD:PUBLISH
X-WR-CALNAME:calella@calella.cat
X-WR-TIMEZONE:Europe/Madrid
DESCRIPTION:Cada dimarts a la Biblioteca Can Salvador de la Plaça,uneix-te a l'Escola de Salut del Maresme i la Selva, un espai de trobada adreçat a persones de més de 60 anys per promoure bons hàbits i per aprendre a conèixer i millorar la salut física i mental.

URI:https://www.calella.cat/actualitat/agenda/trobada-escola-de-salut-del-maresme-i-la-selva-.html
CLASS:PUBLIC
END:VEVENT
END:VCALENDAR
