BEGIN:VCALENDAR
VERSION:2.0
CALSCALE:GREGORIAN
PRODID:-//Diputació de Barcelona//DibaCMS//EN
BEGIN:VEVENT
UID:5647
DTSTAMP:20260425T141427
DTSTART:20231002T093000
DTEND:20231002T110000
SUMMARY:Taller de Taitxí al Parc Dalmau
LOCATION:Parc Dalmau 08370 Calella
METHOD:PUBLISH
X-WR-CALNAME:calella@calella.cat
X-WR-TIMEZONE:Europe/Madrid
DESCRIPTION:Participa al taller de Taitxí organitzat per l'Associació Calella-Marxa! 

Per a més informació: truca al 655 81 20 07

 

URI:https://www.calella.cat/actualitat/agenda/taller-de-taitxi-al-parc-dalmau.html
CLASS:PUBLIC
END:VEVENT
END:VCALENDAR
