BEGIN:VCALENDAR
VERSION:2.0
CALSCALE:GREGORIAN
PRODID:-//Diputació de Barcelona//DibaCMS//EN
BEGIN:VEVENT
UID:5643
DTSTAMP:20260425T123205
DTSTART:20230926T160000
DTEND:20230926T160000
SUMMARY:Taller d'informació i orientació sobre els usos de drogues i pantalles
LOCATION:c. Sant Jaume, 225-229 08370 Calella
METHOD:PUBLISH
X-WR-CALNAME:calella@calella.cat
X-WR-TIMEZONE:Europe/Madrid
DESCRIPTION:A l'Espai Jove de Can Saleta hi trobareu un espai d'orientació, informació i acompanyament dels usos de drogues i pantalles, adreçat a adolescents, joves, famílies i professionals. És necessari inscriure's prèviament.

Consulta més informació a l'Espai Jove, al 661 74 15 52 o rula@ccmaresme.cat 

URI:https://www.calella.cat/actualitat/agenda/taller-dinformacio-i-orientacio-sobre-els-usos-de-drogues-i-pantalles.html
CLASS:PUBLIC
END:VEVENT
END:VCALENDAR
