BEGIN:VCALENDAR
VERSION:2.0
CALSCALE:GREGORIAN
PRODID:-//Diputació de Barcelona//DibaCMS//EN
BEGIN:VEVENT
UID:5641
DTSTAMP:20260425T152200
DTSTART:20230925T170000
DTEND:20230925T183000
SUMMARY:Activitats a l'Espai Jove de Can Saleta
LOCATION:c. Sant Jaume, 225-229 08370 Calella
METHOD:PUBLISH
X-WR-CALNAME:calella@calella.cat
X-WR-TIMEZONE:Europe/Madrid
DESCRIPTION:A les 17:00 h, a l'Espai Jove es convida a que els joves participin a "Sincronitza't", un grup de conversa entre el jovent. Les places són limitades, no tardis a inscriure't!  A a les 18:30 h hi trobaràs la tarda jove, un espai confidencial, gratuït i sense cita prèvia on et poden assessorar sobre sexualitat, métodes anticonceptius o malalties de transmissió sexual.

Consulta més informació a @calellajove o truca al 663 34 87 17

URI:https://www.calella.cat/actualitat/agenda/activitats-a-lespai-jove-de-can-saleta.html
CLASS:PUBLIC
END:VEVENT
END:VCALENDAR
