BEGIN:VCALENDAR
VERSION:2.0
CALSCALE:GREGORIAN
PRODID:-//Diputació de Barcelona//DibaCMS//EN
BEGIN:VEVENT
UID:5637
DTSTAMP:20260425T123729
DTSTART:20230921T180000
DTEND:20230921T190000
SUMMARY:Torneig de futbol a l'Escola La Minerva
LOCATION:c. Sant Jaume, s/n 08370 Calella
METHOD:PUBLISH
X-WR-CALNAME:calella@calella.cat
X-WR-TIMEZONE:Europe/Madrid
DESCRIPTION:Al pati de l'Escola La Minerva es celebrarà un torneig de futbol. Les places són limitades, inscriu-te! Per més informació: @calellajove o truca al 663 34 87 17

 

URI:https://www.calella.cat/actualitat/agenda/torneig-de-futbol-a-lescola-la-minerva.html
CLASS:PUBLIC
END:VEVENT
END:VCALENDAR
