BEGIN:VCALENDAR
VERSION:2.0
CALSCALE:GREGORIAN
PRODID:-//Diputació de Barcelona//DibaCMS//EN
BEGIN:VEVENT
UID:5636
DTSTAMP:20260425T124555
DTSTART:20230921T120000
DTEND:20230921T180000
SUMMARY:10è aniversari de l'Escola Oficial d'Idiomes 
LOCATION:c. Sant Pere, 152 08370 Calella
METHOD:PUBLISH
X-WR-CALNAME:calella@calella.cat
X-WR-TIMEZONE:Europe/Madrid
DESCRIPTION:L'Escola Oficial d'Idiomes celebra a les 12:00 h el 10è aniversari de l'escola i a les 18:00 h organitza una jornada de portes obertes oferint informació sobre tots els idiomes que ofereixen!

URI:https://www.calella.cat/actualitat/agenda/10e-aniversari-de-lescola-oficial-didiomes-.html
CLASS:PUBLIC
END:VEVENT
END:VCALENDAR
