BEGIN:VCALENDAR
VERSION:2.0
CALSCALE:GREGORIAN
PRODID:-//Diputació de Barcelona//DibaCMS//EN
BEGIN:VEVENT
UID:5625
DTSTAMP:20260425T123351
DTSTART:20230922T000000
DTEND:20230924T000000
SUMMARY:42a Fira de Calella i l'Alt Maresme
LOCATION:
METHOD:PUBLISH
X-WR-CALNAME:calella@calella.cat
X-WR-TIMEZONE:Europe/Madrid
DESCRIPTION:Del 22 al 24 de setembre, vine a la 42a Fira de Calella i l'Alt Maresme al Passeig de Manuel Puigvert dedicada a una fira de fires, amb les fires convidades: la Fira del Gall de Vilafranca del Penedès; la Fira internacional de ceràmica Argilà d'Argentona; la Fira de la Muntanya de Vic; la Fira de la Botifarra de la Garriga; la Fira de Sant Martirià de Banyoles; les Fires del Pèsol i la Coca de Sant Andreu de Llavaneres; la Fira de l’Oli Qualitat Verge Extra i les Garrigues de les Borges Blanques i la Fira Mercat del Ram de Tordera!

URI:https://www.calella.cat/actualitat/agenda/42a-fira-de-calella-i-lalt-maresme.html
CLASS:PUBLIC
END:VEVENT
END:VCALENDAR
