BEGIN:VCALENDAR
VERSION:2.0
CALSCALE:GREGORIAN
PRODID:-//Diputació de Barcelona//DibaCMS//EN
BEGIN:VEVENT
UID:5609
DTSTAMP:20260425T141240
DTSTART:20230904T183000
DTEND:20230904T193000
SUMMARY:Club de lectura Llibre Obert 
LOCATION:Plaça de l'Ajuntament, 31 08370 Calella
METHOD:PUBLISH
X-WR-CALNAME:calella@calella.cat
X-WR-TIMEZONE:Europe/Madrid
DESCRIPTION:Club de lectura Llibre Obert a càrrec d’en Lluis Barri per parlar del llibre: Los Asquerosos de Santiago Lorenzo.

URI:https://www.calella.cat/actualitat/agenda/club-de-lectura-llibre-obert-.html
CLASS:PUBLIC
END:VEVENT
END:VCALENDAR
